BEGIN:VCALENDAR
VERSION:2.0
PRODID:-//wp-events-plugin.com//7.2.3.1//EN
BEGIN:VEVENT
UID:95@nvllabs.com
DTSTART:20171016T153000Z
DTEND:20171020T233000Z
DTSTAMP:20170301T225100Z
URL:https://www.nvllabs.com/events/lbp-inspector-and-ra-combo-initial-wa-c
 ommerce-accredited-2/
SUMMARY:LBP Inspector and RA (Combo)-Initial (WA-Commerce Accredited)
DESCRIPTION:
LOCATION:NVL Labs\, 4708 Aurora Ave N\, Seattle\, WA\, 98103\, United State
 s
X-APPLE-STRUCTURED-LOCATION;VALUE=URI;X-ADDRESS=4708 Aurora Ave N\, Seattle
 \, WA\, 98103\, United States;X-APPLE-RADIUS=100;X-TITLE=NVL Labs:geo:0,0
END:VEVENT
END:VCALENDAR