BEGIN:VCALENDAR
VERSION:2.0
PRODID:-//wp-events-plugin.com//7.2.3.1//EN
BEGIN:VEVENT
UID:275@nvllabs.com
DTSTART:20200228T150000Z
DTEND:20200228T230000Z
DTSTAMP:20191209T091255Z
URL:https://www.nvllabs.com/events/lead-pb-dust-wipe-sampling-technician-8
 -hr-epa-accredited-5/
SUMMARY:Lead (Pb) Dust Wipe Sampling Technician - 8 Hr (EPA Accredited)
DESCRIPTION:&nbsp\;\n
LOCATION:NVL Labs\, 4708 Aurora Ave N\, Seattle\, WA\, 98103\, United State
 s
X-APPLE-STRUCTURED-LOCATION;VALUE=URI;X-ADDRESS=4708 Aurora Ave N\, Seattle
 \, WA\, 98103\, United States;X-APPLE-RADIUS=100;X-TITLE=NVL Labs:geo:0,0
END:VEVENT
END:VCALENDAR