BEGIN:VCALENDAR
VERSION:2.0
PRODID:-//wp-events-plugin.com//7.2.3.1//EN
BEGIN:VEVENT
UID:105@nvllabs.com
DTSTART:20171002T153000Z
DTEND:20171002T233000Z
DTSTAMP:20170301T225034Z
URL:https://www.nvllabs.com/events/niosh-582-pcm-analysis-refresher-aiha-a
 ccredited-3/
SUMMARY:NIOSH 582 (PCM) Analysis-Refresher AIHA Accredited)
DESCRIPTION:
LOCATION:NVL Labs\, 4708 Aurora Ave N\, Seattle\, WA\, 98103\, United State
 s
X-APPLE-STRUCTURED-LOCATION;VALUE=URI;X-ADDRESS=4708 Aurora Ave N\, Seattle
 \, WA\, 98103\, United States;X-APPLE-RADIUS=100;X-TITLE=NVL Labs:geo:0,0
END:VEVENT
END:VCALENDAR